BEGIN:VCALENDAR
VERSION:2.0
PRODID:-//www.pasadenasocietyofartists.org//NONSGML kigkonsult.se iCalcreat
 or 2.30.10//
CALSCALE:GREGORIAN
METHOD:PUBLISH
UID:a7113012-2c27-470f-91e0-24691eb11934
X-WR-CALDESC:
X-WR-RELCALID:e763d4a1c4923cd5de7d7c239523f94d
X-WR-TIMEZONE:America/Los_Angeles
BEGIN:VTIMEZONE
TZID:America/Los_Angeles
BEGIN:STANDARD
TZNAME:PST
DTSTART:20191103T020000
TZOFFSETFROM:-0700
TZOFFSETTO:-0800
RDATE:20201101T020000
RDATE:20211107T020000
END:STANDARD
BEGIN:DAYLIGHT
TZNAME:PDT
DTSTART:20200308T020000
TZOFFSETFROM:-0800
TZOFFSETTO:-0700
RDATE:20210314T020000
END:DAYLIGHT
END:VTIMEZONE
BEGIN:VEVENT
UID:4ad76373-f3a8-4226-af69-c61f6ac1cd16
DTSTAMP:20260420T002254Z
DESCRIPTION:
DTSTART;TZID=America/Los_Angeles:20200720T000000
DTEND;TZID=America/Los_Angeles:20200820T235900
LOCATION:Online
SUMMARY:Virtual PSA Version 2020.07.20 - Online Exhibition
END:VEVENT
END:VCALENDAR
