BEGIN:VCALENDAR
VERSION:2.0
PRODID:-//www.pasadenasocietyofartists.org//NONSGML kigkonsult.se iCalcreat
 or 2.30.10//
CALSCALE:GREGORIAN
METHOD:PUBLISH
UID:afff1d4d-aee3-4349-aff9-09835e217ace
X-WR-CALDESC:
X-WR-RELCALID:3ae39ad331bc629dc16ac4d1ede29b4e
X-WR-TIMEZONE:America/Los_Angeles
BEGIN:VTIMEZONE
TZID:America/Los_Angeles
BEGIN:STANDARD
TZNAME:PST
DTSTART:20191103T020000
TZOFFSETFROM:-0700
TZOFFSETTO:-0800
RDATE:20201101T020000
RDATE:20211107T020000
END:STANDARD
BEGIN:DAYLIGHT
TZNAME:PDT
DTSTART:20200308T020000
TZOFFSETFROM:-0800
TZOFFSETTO:-0700
RDATE:20210314T020000
END:DAYLIGHT
END:VTIMEZONE
BEGIN:VEVENT
UID:d6c41008-5c7c-4a76-8f5a-083cfe915131
DTSTAMP:20260420T002605Z
DESCRIPTION:
DTSTART;TZID=America/Los_Angeles:20200704T000000
DTEND;TZID=America/Los_Angeles:20200704T235900
LOCATION:Blinn House: 160 N. Oakland Ave. Pasadena\, CA
SUMMARY:Monthly Meeting & Program--SUSPENDED until further notice
END:VEVENT
END:VCALENDAR
