BEGIN:VCALENDAR
VERSION:2.0
PRODID:-//www.pasadenasocietyofartists.org//NONSGML kigkonsult.se iCalcreat
 or 2.30.10//
CALSCALE:GREGORIAN
METHOD:PUBLISH
UID:8874c4cf-3f5e-4dc9-8b4f-10283d10a5c1
X-WR-CALDESC:
X-WR-RELCALID:88cdb2c89a2e8192ad6f2380f6760bf8
X-WR-TIMEZONE:America/Los_Angeles
BEGIN:VTIMEZONE
TZID:America/Los_Angeles
BEGIN:STANDARD
TZNAME:PST
DTSTART:20191103T020000
TZOFFSETFROM:-0700
TZOFFSETTO:-0800
RDATE:20201101T020000
END:STANDARD
BEGIN:DAYLIGHT
TZNAME:PDT
DTSTART:20200308T020000
TZOFFSETFROM:-0800
TZOFFSETTO:-0700
RDATE:20210314T020000
END:DAYLIGHT
END:VTIMEZONE
BEGIN:VEVENT
UID:7c9cb1a6-4d84-4ed8-b854-bea8f4978a25
DTSTAMP:20260420T002605Z
DESCRIPTION:
DTSTART;TZID=America/Los_Angeles:20200502T000000
DTEND;TZID=America/Los_Angeles:20200502T235900
LOCATION:Blinn House: 160 N. Oakland Ave. Pasadena\, CA
SUMMARY:Monthly Meeting & Program--SUSPENDED until further notice
END:VEVENT
END:VCALENDAR
