BEGIN:VCALENDAR
VERSION:2.0
PRODID:-//www.pasadenasocietyofartists.org//NONSGML kigkonsult.se iCalcreat
 or 2.30.10//
CALSCALE:GREGORIAN
METHOD:PUBLISH
UID:faae3e47-a494-482c-a65b-269c69916f17
X-WR-CALDESC:Women’s City Club of Pasadena (Fireplace Lounge)\n160 N. Oakla
 nd\, Pasadena\n\n12:00 Meet & Greet   \n1:00   Presentation by PSA member 
 Nora Koerber (CAL President)\n2:00- 3:00 General Meeting\n                
  Topics:\n                            Moment of Silence - Chantal Giddens
 \n                             Exhibitions\, Exhibitions Committee\n      
                        Elections 2020\n                             ArtNig
 ht March 13th at Pasadena Museum of History\n                             
 Salon  March 15th 1pm - 4pm\n* Board Meeting at 10:00 / Garden Room of WCC
   PSA members welcome
X-WR-RELCALID:41fe0b958830ce79c583e85e8180bad2
X-WR-TIMEZONE:America/Los_Angeles
BEGIN:VTIMEZONE
TZID:America/Los_Angeles
BEGIN:STANDARD
TZNAME:PST
DTSTART:20191103T020000
TZOFFSETFROM:-0700
TZOFFSETTO:-0800
RDATE:20201101T020000
END:STANDARD
BEGIN:DAYLIGHT
TZNAME:PDT
DTSTART:20190310T020000
TZOFFSETFROM:-0800
TZOFFSETTO:-0700
RDATE:20200308T020000
RDATE:20210314T020000
END:DAYLIGHT
END:VTIMEZONE
BEGIN:VEVENT
UID:e7b99b27-2ac5-42dc-a380-6c02e3851e4b
DTSTAMP:20260420T034833Z
DESCRIPTION:Women’s City Club of Pasadena (Fireplace Lounge)\n160 N. Oaklan
 d\, Pasadena\n\n12:00 Meet & Greet   \n1:00   Presentation by PSA member N
 ora Koerber (CAL President)\n2:00- 3:00 General Meeting\n                 
 Topics:\n                            Moment of Silence - Chantal Giddens\n
                              Exhibitions\, Exhibitions Committee\n        
                      Elections 2020\n                             ArtNight
  March 13th at Pasadena Museum of History\n                             Sa
 lon  March 15th 1pm - 4pm\n* Board Meeting at 10:00 / Garden Room of WCC  
 PSA members welcome
DTSTART;TZID=America/Los_Angeles:20200307T000000
DTEND;TZID=America/Los_Angeles:20200307T235900
LOCATION:Blinn House: 160 N. Oakland Ave. Pasadena\, CA
SUMMARY:Monthly Meeting & Program(click for details)
END:VEVENT
END:VCALENDAR
