BEGIN:VCALENDAR
VERSION:2.0
PRODID:-//www.pasadenasocietyofartists.org//NONSGML kigkonsult.se iCalcreat
 or 2.30.10//
CALSCALE:GREGORIAN
METHOD:PUBLISH
UID:b153fea5-1224-448e-9198-66b490a8b474
X-WR-CALDESC:869 East Mariposa Street\, Altadena
X-WR-RELCALID:7cb4fadc34ba4f2b077b6082e34a1b6d
X-WR-TIMEZONE:America/Los_Angeles
BEGIN:VTIMEZONE
TZID:America/Los_Angeles
BEGIN:STANDARD
TZNAME:PST
DTSTART:20191103T020000
TZOFFSETFROM:-0700
TZOFFSETTO:-0800
RDATE:20201101T020000
END:STANDARD
BEGIN:DAYLIGHT
TZNAME:PDT
DTSTART:20190310T020000
TZOFFSETFROM:-0800
TZOFFSETTO:-0700
RDATE:20200308T020000
RDATE:20210314T020000
END:DAYLIGHT
END:VTIMEZONE
BEGIN:VEVENT
UID:c87c29a8-115b-4a0c-8fb1-c86f04a8ec59
DTSTAMP:20260420T051314Z
DESCRIPTION:869 East Mariposa Street\, Altadena
DTSTART;TZID=America/Los_Angeles:20200204T110000
DTEND;TZID=America/Los_Angeles:20200204T170000
LOCATION:McGinty’s Gallery At The End Of The World
SUMMARY:New Members Showcase
END:VEVENT
END:VCALENDAR
