BEGIN:VCALENDAR
VERSION:2.0
PRODID:-//www.pasadenasocietyofartists.org//NONSGML kigkonsult.se iCalcreat
 or 2.30.10//
CALSCALE:GREGORIAN
METHOD:PUBLISH
UID:c1d8785e-ad74-4be3-b35d-7bf3ff2b1504
X-WR-CALDESC:At Nora Koerber's home:\n10624 Sable Ave\, Sunland\, 91040\n\n
 (818) 273-4748 R.S.V.P.  norakgroups@gmail.com \n\nLimit: 16 attendees.\n
 \nPROGRAM:\nInitial brief Topic discussion on Manet and Kathe Kollwitz exh
 ibits at the Getty\n'Crit-Light'/ Artwork share.\nPotluck: Snack/ drink to
  share for social.
X-WR-RELCALID:a293f3650228c56d9110bc41aebb5fd8
X-WR-TIMEZONE:America/Los_Angeles
BEGIN:VTIMEZONE
TZID:America/Los_Angeles
BEGIN:STANDARD
TZNAME:PST
DTSTART:20191103T020000
TZOFFSETFROM:-0700
TZOFFSETTO:-0800
RDATE:20201101T020000
END:STANDARD
BEGIN:DAYLIGHT
TZNAME:PDT
DTSTART:20190310T020000
TZOFFSETFROM:-0800
TZOFFSETTO:-0700
RDATE:20200308T020000
RDATE:20210314T020000
END:DAYLIGHT
END:VTIMEZONE
BEGIN:VEVENT
UID:9c2173b6-ca2a-4729-80a5-0b274a634ca9
DTSTAMP:20260420T070138Z
DESCRIPTION:At Nora Koerber's home:\n10624 Sable Ave\, Sunland\, 91040\n\n(
 818) 273-4748 R.S.V.P.  norakgroups@gmail.com \n\nLimit: 16 attendees.\n\n
 PROGRAM:\nInitial brief Topic discussion on Manet and Kathe Kollwitz exhib
 its at the Getty\n'Crit-Light'/ Artwork share.\nPotluck: Snack/ drink to s
 hare for social.
DTSTART;TZID=America/Los_Angeles:20200126T130000
DTEND;TZID=America/Los_Angeles:20200126T153000
LOCATION:10624 Sable Ave\, Sunland\, 91040
SUMMARY:PSA Art Salon
END:VEVENT
END:VCALENDAR
