BEGIN:VCALENDAR
VERSION:2.0
PRODID:-//www.pasadenasocietyofartists.org//NONSGML kigkonsult.se iCalcreat
 or 2.30.10//
CALSCALE:GREGORIAN
METHOD:PUBLISH
UID:70a68d5e-2ee1-41f7-906c-082dd0db3678
X-WR-CALDESC:ALTADENA PUBLIC LIBRARY  — Community Room\n                   
    600 Mariposa St\, Altadena  \n                      All of our meetings
  are open to the public\n\n12:00 - Meet & Greet     Bring art to share (un
 finished ok)\nPlease bring something delicious\, and/or healthy snacks or 
 beverages (no alcohol)\n\n12:45 Program    KAREN DAVIS — Photographer\, Wr
 iter\, Musician\, Editor\n\nKaren Davis is a photographer\, author\, music
 ian and editor. She's authored a book entitled\, 'Santa Anita Morning Rhap
 sody'\, featured on national TV and radio\, which is Karen's stunning phot
 ographic  portrayal of behind-the-scenes thoroughbred training at Santa An
 ita Park.\nKaren has many sensitive.and insightful photographic images and
  stories to share.\n\n2:00  HAPPY NEW YEAR General Meeting
X-WR-RELCALID:70cd21feda8975d5261326b843380e68
X-WR-TIMEZONE:America/Los_Angeles
BEGIN:VTIMEZONE
TZID:America/Los_Angeles
BEGIN:STANDARD
TZNAME:PST
DTSTART:20191103T020000
TZOFFSETFROM:-0700
TZOFFSETTO:-0800
RDATE:20201101T020000
END:STANDARD
BEGIN:DAYLIGHT
TZNAME:PDT
DTSTART:20190310T020000
TZOFFSETFROM:-0800
TZOFFSETTO:-0700
RDATE:20200308T020000
RDATE:20210314T020000
END:DAYLIGHT
END:VTIMEZONE
BEGIN:VEVENT
UID:77466cc9-f3b7-492d-9c7b-dc6566d93ec9
DTSTAMP:20260420T065912Z
DESCRIPTION:ALTADENA PUBLIC LIBRARY  — Community Room\n                    
   600 Mariposa St\, Altadena  \n                      All of our meetings 
 are open to the public\n\n12:00 - Meet & Greet     Bring art to share (unf
 inished ok)\nPlease bring something delicious\, and/or healthy snacks or b
 everages (no alcohol)\n\n12:45 Program    KAREN DAVIS — Photographer\, Wri
 ter\, Musician\, Editor\n\nKaren Davis is a photographer\, author\, musici
 an and editor. She's authored a book entitled\, 'Santa Anita Morning Rhaps
 ody'\, featured on national TV and radio\, which is Karen's stunning photo
 graphic  portrayal of behind-the-scenes thoroughbred training at Santa Ani
 ta Park.\nKaren has many sensitive.and insightful photographic images and 
 stories to share.\n\n2:00  HAPPY NEW YEAR General Meeting
DTSTART;TZID=America/Los_Angeles:20200104T000000
DTEND;TZID=America/Los_Angeles:20200104T235900
LOCATION:ALTADENA PUBLIC LIBRARY  — Community Room - 600 Mariposa St\, Alta
 dena
SUMMARY:Monthly Meeting & Program--NEW LOCATION (click for details)
END:VEVENT
END:VCALENDAR
