BEGIN:VCALENDAR
VERSION:2.0
PRODID:-//www.pasadenasocietyofartists.org//NONSGML kigkonsult.se iCalcreat
 or 2.30.10//
CALSCALE:GREGORIAN
METHOD:PUBLISH
UID:78a6da16-8e23-499b-b51c-afb04893ddc2
X-WR-CALDESC:ENTER either backyard gate\, by the large hedge.\n   \nYou and
  other artist friends are invited to enjoy my studio and backyard\, as you
  sculpt\, draw\, paint\, snap shutters\, or just relax with highly creativ
 e folks.  \n\nBring some beverages and snacks and enjoy an afternoon in th
 e shade.\n\n* 4:00pm  A non political discussion about the role of art and
  PSA artists can have in today's society to help younger people have creat
 ive opportunities for a safer world.\n\n
X-WR-RELCALID:53cc63ea38fa97aab5cc81f178dafc48
X-WR-TIMEZONE:America/Los_Angeles
BEGIN:VTIMEZONE
TZID:America/Los_Angeles
BEGIN:STANDARD
TZNAME:PST
DTSTART:20181104T020000
TZOFFSETFROM:-0700
TZOFFSETTO:-0800
RDATE:20191103T020000
RDATE:20201101T020000
END:STANDARD
BEGIN:DAYLIGHT
TZNAME:PDT
DTSTART:20190310T020000
TZOFFSETFROM:-0800
TZOFFSETTO:-0700
RDATE:20200308T020000
END:DAYLIGHT
END:VTIMEZONE
BEGIN:VEVENT
UID:c295ec7b-65a1-41ec-92e1-25399f5be22c
DTSTAMP:20260420T000104Z
DESCRIPTION:ENTER either backyard gate\, by the large hedge.\n   \nYou and 
 other artist friends are invited to enjoy my studio and backyard\, as you 
 sculpt\, draw\, paint\, snap shutters\, or just relax with highly creative
  folks.  \n\nBring some beverages and snacks and enjoy an afternoon in the
  shade.\n\n* 4:00pm  A non political discussion about the role of art and 
 PSA artists can have in today's society to help younger people have creati
 ve opportunities for a safer world.\n\n
DTSTART;TZID=America/Los_Angeles:20190824T120000
DTEND;TZID=America/Los_Angeles:20190824T180000
LOCATION:Vic’s home      941 East Verdugo Ave\, Burbank\, CA 91501
SUMMARY:A R T DAY--a 'hands on” Salon
END:VEVENT
END:VCALENDAR
